BEGIN:VCALENDAR
VERSION:2.0
PRODID:-//Eventin//Event Calendar//EN
CALSCALE:GREGORIAN
METHOD:PUBLISH
BEGIN:VEVENT
UID:7620373d22897f65b13f57c6a37fab2f@comedyiniceland.com
SUMMARY:From Ice to insanity
DESCRIPTION:From Ice to Insanity — the riotous stand-up show Eggert Smár
 i has been selling out across Europe — returns to where it all began: Ice
 land. After packed houses in Estonia\, Finland\, Glasgow and Amsterdam\, th
 e show is still evolving\, sharper and wilder than ever. Joining Eggert to 
 warm up the crowd is his long-time partner in crime\, Sölvi Smárasson\, p
 romising a night of razor-sharp jokes\, unexpected twists and nonstop laugh
 ter. Come early\, grab a seat\, and be part of the live experiment as the m
 adness continues.
LOCATION:Austurstræti 7
DTSTAMP:20260423T204937Z
DTSTART:20260502T210000Z
DTEND:20260502T223000Z
END:VEVENT
END:VCALENDAR
